BEGIN:VCALENDAR
VERSION:2.0
PRODID:-//Bois et Galets - ECPv6.15.20//NONSGML v1.0//EN
CALSCALE:GREGORIAN
METHOD:PUBLISH
X-ORIGINAL-URL:https://boisetgalets.fr
X-WR-CALDESC:Évènements pour Bois et Galets
REFRESH-INTERVAL;VALUE=DURATION:PT1H
X-Robots-Tag:noindex
X-PUBLISHED-TTL:PT1H
BEGIN:VTIMEZONE
TZID:Europe/Paris
BEGIN:DAYLIGHT
TZOFFSETFROM:+0100
TZOFFSETTO:+0200
TZNAME:CEST
DTSTART:20250330T010000
END:DAYLIGHT
BEGIN:STANDARD
TZOFFSETFROM:+0200
TZOFFSETTO:+0100
TZNAME:CET
DTSTART:20251026T010000
END:STANDARD
BEGIN:DAYLIGHT
TZOFFSETFROM:+0100
TZOFFSETTO:+0200
TZNAME:CEST
DTSTART:20260329T010000
END:DAYLIGHT
BEGIN:STANDARD
TZOFFSETFROM:+0200
TZOFFSETTO:+0100
TZNAME:CET
DTSTART:20261025T010000
END:STANDARD
BEGIN:DAYLIGHT
TZOFFSETFROM:+0100
TZOFFSETTO:+0200
TZNAME:CEST
DTSTART:20270328T010000
END:DAYLIGHT
BEGIN:STANDARD
TZOFFSETFROM:+0200
TZOFFSETTO:+0100
TZNAME:CET
DTSTART:20271031T010000
END:STANDARD
END:VTIMEZONE
BEGIN:VEVENT
DTSTART;TZID=Europe/Paris:20260524T090000
DTEND;TZID=Europe/Paris:20260524T180000
DTSTAMP:20260423T220545
CREATED:20260423T132043Z
LAST-MODIFIED:20260423T132129Z
UID:2893-1779613200-1779645600@boisetgalets.fr
SUMMARY:Salon des créateur Cré'Art - Le Barp
DESCRIPTION:Retrouvez-moi au Salon des créateur Cré’Art du Barp (33) organisé à la Maison du Val de l’Eyre.
URL:https://boisetgalets.fr/event/salon-des-createur-crart-le-barp/
LOCATION:Le Barp\, 75 Av. des Pyrénées\, Le Barp\, 33114\, France
CATEGORIES:expo
END:VEVENT
END:VCALENDAR